Package: Rbowtie2 Version: 2.10.0 Command: /Library/Frameworks/R.framework/Resources/bin/R CMD check --install=check:Rbowtie2.install-out.txt --library=/Library/Frameworks/R.framework/Resources/library --no-vignettes --timings Rbowtie2_2.10.0.tar.gz StartedAt: 2024-06-11 02:29:01 -0400 (Tue, 11 Jun 2024) EndedAt: 2024-06-11 02:30:08 -0400 (Tue, 11 Jun 2024) EllapsedTime: 66.9 seconds RetCode: 0 Status: OK CheckDir: Rbowtie2.Rcheck Warnings: 0