Package: Rbowtie2 Version: 2.10.0 Command: /Library/Frameworks/R.framework/Resources/bin/R CMD INSTALL Rbowtie2 StartedAt: 2024-10-16 16:24:04 -0400 (Wed, 16 Oct 2024) EndedAt: 2024-10-16 16:27:44 -0400 (Wed, 16 Oct 2024) EllapsedTime: 219.9 seconds RetCode: 0 Status: OK