Package: Rbowtie2 Version: 2.10.0 Command: /Library/Frameworks/R.framework/Resources/bin/R CMD build --keep-empty-dirs --no-resave-data Rbowtie2 StartedAt: 2024-10-17 07:13:44 -0400 (Thu, 17 Oct 2024) EndedAt: 2024-10-17 07:17:45 -0400 (Thu, 17 Oct 2024) EllapsedTime: 240.9 seconds RetCode: 0 Status: OK PackageFile: Rbowtie2_2.10.0.tar.gz PackageFileSize: 1.711 MiB