Package: Rbowtie2 Version: 2.10.0 Command: rm -rf Rbowtie2.buildbin-libdir && mkdir Rbowtie2.buildbin-libdir && /Users/biocbuild/BBS/utils/build-universal.sh Rbowtie2_2.10.0.tar.gz /Library/Frameworks/R.framework/Resources/bin/R Rbowtie2.buildbin-libdir StartedAt: 2024-10-18 20:09:09 -0400 (Fri, 18 Oct 2024) EndedAt: 2024-10-18 20:13:52 -0400 (Fri, 18 Oct 2024) EllapsedTime: 283.0 seconds RetCode: 0 Status: OK PackageFile: Rbowtie2_2.10.0.tgz PackageFileSize: 1.843 MiB