Package: Rbowtie Version: 1.44.0 Command: chmod a+r Rbowtie -R && E:\biocbuild\bbs-3.19-bioc\R\bin\R.exe CMD build --keep-empty-dirs --no-resave-data Rbowtie StartedAt: 2024-10-16 21:24:15 -0400 (Wed, 16 Oct 2024) EndedAt: 2024-10-16 21:26:13 -0400 (Wed, 16 Oct 2024) EllapsedTime: 117.9 seconds RetCode: 0 Status: OK PackageFile: Rbowtie_1.44.0.tar.gz PackageFileSize: 903.4 KiB