Package: Rbowtie Version: 1.44.0 Command: /home/biocbuild/bbs-3.19-bioc/R/bin/R CMD build --keep-empty-dirs --no-resave-data Rbowtie StartedAt: 2024-10-16 20:19:44 -0400 (Wed, 16 Oct 2024) EndedAt: 2024-10-16 20:21:10 -0400 (Wed, 16 Oct 2024) EllapsedTime: 86.1 seconds RetCode: 0 Status: OK PackageFile: Rbowtie_1.44.0.tar.gz PackageFileSize: 903.7 KiB