Package: Rbowtie Version: 1.44.0 Command: /Library/Frameworks/R.framework/Resources/bin/R CMD build --keep-empty-dirs --no-resave-data Rbowtie StartedAt: 2024-10-16 22:24:50 -0400 (Wed, 16 Oct 2024) EndedAt: 2024-10-16 22:28:20 -0400 (Wed, 16 Oct 2024) EllapsedTime: 209.8 seconds RetCode: 0 Status: OK PackageFile: Rbowtie_1.44.0.tar.gz PackageFileSize: 4.998 MiB