Package: Rbowtie Version: 1.44.0 Command: rm -rf Rbowtie.buildbin-libdir && mkdir Rbowtie.buildbin-libdir && /Users/biocbuild/BBS/utils/build-universal.sh Rbowtie_1.44.0.tar.gz /Library/Frameworks/R.framework/Resources/bin/R Rbowtie.buildbin-libdir StartedAt: 2024-10-17 16:56:23 -0400 (Thu, 17 Oct 2024) EndedAt: 2024-10-17 16:59:30 -0400 (Thu, 17 Oct 2024) EllapsedTime: 187.3 seconds RetCode: 0 Status: OK PackageFile: Rbowtie_1.44.0.tgz PackageFileSize: 1.277 MiB