Package: Rbowtie Version: 1.44.0 Command: /Library/Frameworks/R.framework/Resources/bin/R CMD build --keep-empty-dirs --no-resave-data Rbowtie StartedAt: 2024-06-10 03:08:48 -0400 (Mon, 10 Jun 2024) EndedAt: 2024-06-10 03:11:09 -0400 (Mon, 10 Jun 2024) EllapsedTime: 140.7 seconds RetCode: 0 Status: OK PackageFile: Rbowtie_1.44.0.tar.gz PackageFileSize: 4.917 MiB