Package: Rbowtie Version: 1.44.0 Command: rm -rf Rbowtie.buildbin-libdir && mkdir Rbowtie.buildbin-libdir && /Users/biocbuild/BBS/utils/build-universal.sh Rbowtie_1.44.0.tar.gz /Library/Frameworks/R.framework/Resources/bin/R Rbowtie.buildbin-libdir StartedAt: 2024-06-11 12:42:37 -0400 (Tue, 11 Jun 2024) EndedAt: 2024-06-11 12:45:11 -0400 (Tue, 11 Jun 2024) EllapsedTime: 153.8 seconds RetCode: 0 Status: OK PackageFile: Rbowtie_1.44.0.tgz PackageFileSize: 1.183 MiB