Package: Rbowtie Version: 1.44.0 Command: /Library/Frameworks/R.framework/Resources/bin/R CMD check --install=check:Rbowtie.install-out.txt --library=/Library/Frameworks/R.framework/Resources/library --no-vignettes --timings Rbowtie_1.44.0.tar.gz StartedAt: 2024-10-18 08:47:55 -0400 (Fri, 18 Oct 2024) EndedAt: 2024-10-18 08:48:30 -0400 (Fri, 18 Oct 2024) EllapsedTime: 34.1 seconds RetCode: 0 Status: WARNINGS CheckDir: Rbowtie.Rcheck Warnings: 1