Package: Rbec Version: 1.12.0 Command: F:\biocbuild\bbs-3.19-bioc\R\bin\R.exe CMD check --no-multiarch --install=check:Rbec.install-out.txt --library=F:\biocbuild\bbs-3.19-bioc\R\library --no-vignettes --timings Rbec_1.12.0.tar.gz StartedAt: 2024-06-27 05:08:34 -0400 (Thu, 27 Jun 2024) EndedAt: 2024-06-27 05:13:56 -0400 (Thu, 27 Jun 2024) EllapsedTime: 322.3 seconds RetCode: 0 Status: OK CheckDir: Rbec.Rcheck Warnings: 0