Package: Rbec Version: 1.12.0 Command: rm -rf Rbec.buildbin-libdir && mkdir Rbec.buildbin-libdir && F:\biocbuild\bbs-3.19-bioc\R\bin\R.exe CMD INSTALL --build --library=Rbec.buildbin-libdir Rbec_1.12.0.tar.gz StartedAt: 2024-06-27 08:44:39 -0400 (Thu, 27 Jun 2024) EndedAt: 2024-06-27 08:45:44 -0400 (Thu, 27 Jun 2024) EllapsedTime: 65.2 seconds RetCode: 0 Status: OK PackageFile: Rbec_1.12.0.zip PackageFileSize: 1.836 MiB