Package: Rbec Version: 1.12.0 Command: /Library/Frameworks/R.framework/Resources/bin/R CMD INSTALL Rbec StartedAt: 2024-10-16 15:50:49 -0400 (Wed, 16 Oct 2024) EndedAt: 2024-10-16 15:52:19 -0400 (Wed, 16 Oct 2024) EllapsedTime: 89.8 seconds RetCode: 0 Status: OK