Package: Rbec Version: 1.12.0 Command: /Library/Frameworks/R.framework/Resources/bin/R CMD build --keep-empty-dirs --no-resave-data Rbec StartedAt: 2024-10-16 22:23:54 -0400 (Wed, 16 Oct 2024) EndedAt: 2024-10-16 22:26:56 -0400 (Wed, 16 Oct 2024) EllapsedTime: 181.6 seconds RetCode: 0 Status: OK PackageFile: Rbec_1.12.0.tar.gz PackageFileSize: 1.467 MiB