Package: Rbec Version: 1.12.0 Command: rm -rf Rbec.buildbin-libdir && mkdir Rbec.buildbin-libdir && /Users/biocbuild/BBS/utils/build-universal.sh Rbec_1.12.0.tar.gz /Library/Frameworks/R.framework/Resources/bin/R Rbec.buildbin-libdir StartedAt: 2024-10-17 16:56:01 -0400 (Thu, 17 Oct 2024) EndedAt: 2024-10-17 16:57:39 -0400 (Thu, 17 Oct 2024) EllapsedTime: 97.5 seconds RetCode: 0 Status: OK PackageFile: Rbec_1.12.0.tgz PackageFileSize: 1.529 MiB