Package: Rbec Version: 1.12.0 Command: /Library/Frameworks/R.framework/Resources/bin/R CMD INSTALL Rbec StartedAt: 2024-10-16 16:52:50 -0400 (Wed, 16 Oct 2024) EndedAt: 2024-10-16 16:52:58 -0400 (Wed, 16 Oct 2024) EllapsedTime: 8.5 seconds RetCode: 1 Status: ERROR