Package: RbcBook1 Version: 1.72.0 Command: E:\biocbuild\bbs-3.19-bioc\R\bin\R.exe CMD check --no-multiarch --install=check:RbcBook1.install-out.txt --library=E:\biocbuild\bbs-3.19-bioc\R\library --no-vignettes --timings RbcBook1_1.72.0.tar.gz StartedAt: 2024-10-17 04:49:56 -0400 (Thu, 17 Oct 2024) EndedAt: 2024-10-17 04:50:36 -0400 (Thu, 17 Oct 2024) EllapsedTime: 39.7 seconds RetCode: 0 Status: OK CheckDir: RbcBook1.Rcheck Warnings: 0