Package: RbcBook1 Version: 1.72.0 Command: chmod a+r RbcBook1 -R && E:\biocbuild\bbs-3.19-bioc\R\bin\R.exe CMD build --keep-empty-dirs --no-resave-data RbcBook1 StartedAt: 2024-10-16 21:22:46 -0400 (Wed, 16 Oct 2024) EndedAt: 2024-10-16 21:22:59 -0400 (Wed, 16 Oct 2024) EllapsedTime: 13.1 seconds RetCode: 0 Status: OK PackageFile: RbcBook1_1.72.0.tar.gz PackageFileSize: 6.393 MiB