Package: RbcBook1 Version: 1.72.0 Command: chmod a+r RbcBook1 -R && F:\biocbuild\bbs-3.19-bioc\R\bin\R.exe CMD build --keep-empty-dirs --no-resave-data RbcBook1 StartedAt: 2024-06-26 21:15:14 -0400 (Wed, 26 Jun 2024) EndedAt: 2024-06-26 21:15:28 -0400 (Wed, 26 Jun 2024) EllapsedTime: 14.0 seconds RetCode: 0 Status: OK PackageFile: RbcBook1_1.72.0.tar.gz PackageFileSize: 6.393 MiB