Package: RbcBook1 Version: 1.72.0 Command: /home/biocbuild/bbs-3.19-bioc/R/bin/R CMD INSTALL RbcBook1 StartedAt: 2024-10-16 15:51:22 -0400 (Wed, 16 Oct 2024) EndedAt: 2024-10-16 15:51:31 -0400 (Wed, 16 Oct 2024) EllapsedTime: 8.8 seconds RetCode: 0 Status: OK