Package: RbcBook1 Version: 1.72.0 Command: /Library/Frameworks/R.framework/Resources/bin/R CMD INSTALL RbcBook1 StartedAt: 2024-10-16 15:09:03 -0400 (Wed, 16 Oct 2024) EndedAt: 2024-10-16 15:09:19 -0400 (Wed, 16 Oct 2024) EllapsedTime: 15.5 seconds RetCode: 0 Status: OK