Package: RbcBook1 Version: 1.72.0 Command: /Library/Frameworks/R.framework/Resources/bin/R CMD check --install=check:RbcBook1.install-out.txt --library=/Library/Frameworks/R.framework/Resources/library --no-vignettes --timings RbcBook1_1.72.0.tar.gz StartedAt: 2024-10-17 11:30:29 -0400 (Thu, 17 Oct 2024) EndedAt: 2024-10-17 11:31:32 -0400 (Thu, 17 Oct 2024) EllapsedTime: 63.8 seconds RetCode: 0 Status: OK CheckDir: RbcBook1.Rcheck Warnings: 0