Package: RbcBook1 Version: 1.72.0 Command: /Library/Frameworks/R.framework/Resources/bin/R CMD build --keep-empty-dirs --no-resave-data RbcBook1 StartedAt: 2024-06-09 17:50:37 -0400 (Sun, 09 Jun 2024) EndedAt: 2024-06-09 17:50:49 -0400 (Sun, 09 Jun 2024) EllapsedTime: 12.4 seconds RetCode: 0 Status: OK PackageFile: RbcBook1_1.72.0.tar.gz PackageFileSize: 6.412 MiB