Package: Rarr Version: 1.4.0 Command: rm -rf Rarr.buildbin-libdir && mkdir Rarr.buildbin-libdir && E:\biocbuild\bbs-3.19-bioc\R\bin\R.exe CMD INSTALL --build --library=Rarr.buildbin-libdir Rarr_1.4.0.tar.gz StartedAt: 2024-10-17 08:25:34 -0400 (Thu, 17 Oct 2024) EndedAt: 2024-10-17 08:28:51 -0400 (Thu, 17 Oct 2024) EllapsedTime: 197.2 seconds RetCode: 0 Status: OK PackageFile: Rarr_1.4.0.zip PackageFileSize: 1.346 MiB