Package: Rarr Version: 1.4.0 Command: /home/biocbuild/bbs-3.19-bioc/R/bin/R CMD build --keep-empty-dirs --no-resave-data Rarr StartedAt: 2024-10-16 20:18:42 -0400 (Wed, 16 Oct 2024) EndedAt: 2024-10-16 20:19:38 -0400 (Wed, 16 Oct 2024) EllapsedTime: 56.1 seconds RetCode: 0 Status: OK PackageFile: Rarr_1.4.0.tar.gz PackageFileSize: 1.373 MiB