Package: RareVariantVis Version: 2.32.0 Command: E:\biocbuild\bbs-3.19-bioc\R\bin\R.exe CMD INSTALL RareVariantVis StartedAt: 2024-10-16 16:32:57 -0400 (Wed, 16 Oct 2024) EndedAt: 2024-10-16 16:34:37 -0400 (Wed, 16 Oct 2024) EllapsedTime: 99.7 seconds RetCode: 0 Status: OK