Package: RareVariantVis Version: 2.32.0 Command: F:\biocbuild\bbs-3.19-bioc\R\bin\R.exe CMD INSTALL RareVariantVis StartedAt: 2024-06-26 16:13:16 -0400 (Wed, 26 Jun 2024) EndedAt: 2024-06-26 16:14:17 -0400 (Wed, 26 Jun 2024) EllapsedTime: 61.7 seconds RetCode: 0 Status: OK