Package: RareVariantVis Version: 2.32.0 Command: rm -rf RareVariantVis.buildbin-libdir && mkdir RareVariantVis.buildbin-libdir && F:\biocbuild\bbs-3.19-bioc\R\bin\R.exe CMD INSTALL --build --library=RareVariantVis.buildbin-libdir RareVariantVis_2.32.0.tar.gz StartedAt: 2024-06-27 08:44:28 -0400 (Thu, 27 Jun 2024) EndedAt: 2024-06-27 08:45:27 -0400 (Thu, 27 Jun 2024) EllapsedTime: 58.9 seconds RetCode: 0 Status: OK PackageFile: RareVariantVis_2.32.0.zip PackageFileSize: 2.724 MiB