Package: RareVariantVis Version: 2.32.0 Command: /home/biocbuild/R/R-beta-2024-04-15_r86425/bin/R CMD build --keep-empty-dirs --no-resave-data RareVariantVis StartedAt: 2024-05-09 02:48:30 -0000 (Thu, 09 May 2024) EndedAt: 2024-05-09 02:49:31 -0000 (Thu, 09 May 2024) EllapsedTime: 61.1 seconds RetCode: 0 Status: OK PackageFile: RareVariantVis_2.32.0.tar.gz PackageFileSize: 2.75 MiB