Package: RareVariantVis Version: 2.32.0 Command: /Library/Frameworks/R.framework/Resources/bin/R CMD INSTALL RareVariantVis StartedAt: 2024-10-16 16:48:13 -0400 (Wed, 16 Oct 2024) EndedAt: 2024-10-16 16:49:07 -0400 (Wed, 16 Oct 2024) EllapsedTime: 53.8 seconds RetCode: 0 Status: OK