Package: RareVariantVis Version: 2.32.0 Command: rm -rf RareVariantVis.buildbin-libdir && mkdir RareVariantVis.buildbin-libdir && /Users/biocbuild/BBS/utils/build-universal.sh RareVariantVis_2.32.0.tar.gz /Library/Frameworks/R.framework/Resources/bin/R RareVariantVis.buildbin-libdir StartedAt: 2024-10-18 20:08:28 -0400 (Fri, 18 Oct 2024) EndedAt: 2024-10-18 20:09:34 -0400 (Fri, 18 Oct 2024) EllapsedTime: 66.3 seconds RetCode: 0 Status: OK PackageFile: RareVariantVis_2.32.0.tgz PackageFileSize: 2.732 MiB