Package: RankProd Version: 3.30.0 Command: E:\biocbuild\bbs-3.19-bioc\R\bin\R.exe CMD INSTALL RankProd StartedAt: 2024-10-16 15:59:55 -0400 (Wed, 16 Oct 2024) EndedAt: 2024-10-16 16:00:25 -0400 (Wed, 16 Oct 2024) EllapsedTime: 29.8 seconds RetCode: 0 Status: OK