Package: RankProd Version: 3.30.0 Command: chmod a+r RankProd -R && E:\biocbuild\bbs-3.19-bioc\R\bin\R.exe CMD build --keep-empty-dirs --no-resave-data RankProd StartedAt: 2024-10-16 21:21:25 -0400 (Wed, 16 Oct 2024) EndedAt: 2024-10-16 21:21:43 -0400 (Wed, 16 Oct 2024) EllapsedTime: 17.9 seconds RetCode: 0 Status: OK PackageFile: RankProd_3.30.0.tar.gz PackageFileSize: 653.7 KiB