Package: RankProd Version: 3.30.0 Command: rm -rf RankProd.buildbin-libdir && mkdir RankProd.buildbin-libdir && /Users/biocbuild/BBS/utils/build-universal.sh RankProd_3.30.0.tar.gz /Library/Frameworks/R.framework/Resources/bin/R RankProd.buildbin-libdir StartedAt: 2024-10-17 16:55:49 -0400 (Thu, 17 Oct 2024) EndedAt: 2024-10-17 16:56:01 -0400 (Thu, 17 Oct 2024) EllapsedTime: 12.5 seconds RetCode: 0 Status: OK PackageFile: RankProd_3.30.0.tgz PackageFileSize: 876.9 KiB