Package: RankProd Version: 3.30.0 Command: /Library/Frameworks/R.framework/Resources/bin/R CMD check --install=check:RankProd.install-out.txt --library=/Library/Frameworks/R.framework/Resources/library --no-vignettes --timings RankProd_3.30.0.tar.gz StartedAt: 2024-06-09 22:27:43 -0400 (Sun, 09 Jun 2024) EndedAt: 2024-06-09 22:28:36 -0400 (Sun, 09 Jun 2024) EllapsedTime: 53.0 seconds RetCode: 0 Status: OK CheckDir: RankProd.Rcheck Warnings: 0