Package: RankProd Version: 3.30.0 Command: /Library/Frameworks/R.framework/Resources/bin/R CMD check --install=check:RankProd.install-out.txt --library=/Library/Frameworks/R.framework/Resources/library --no-vignettes --timings RankProd_3.30.0.tar.gz StartedAt: 2024-06-11 02:23:50 -0400 (Tue, 11 Jun 2024) EndedAt: 2024-06-11 02:25:10 -0400 (Tue, 11 Jun 2024) EllapsedTime: 80.5 seconds RetCode: 0 Status: OK CheckDir: RankProd.Rcheck Warnings: 0