Package: RankProd Version: 3.30.0 Command: /Library/Frameworks/R.framework/Resources/bin/R CMD build --keep-empty-dirs --no-resave-data RankProd StartedAt: 2024-06-10 03:06:18 -0400 (Mon, 10 Jun 2024) EndedAt: 2024-06-10 03:06:48 -0400 (Mon, 10 Jun 2024) EllapsedTime: 30.9 seconds RetCode: 0 Status: OK PackageFile: RankProd_3.30.0.tar.gz PackageFileSize: 776.7 KiB