Package: RankProd Version: 3.30.0 Maintainer: Francesco Del Carratore MaintainerEmail: francescodc87 at gmail.com git_url: https://git.bioconductor.org/packages/RankProd git_branch: RELEASE_3_19 git_last_commit: 1cb203b git_last_commit_date: 2024-04-30 10:13:50 -0400 (Tue, 30 Apr 2024)