Package: RandomWalkRestartMH Version: 1.24.0 Command: chmod a+r RandomWalkRestartMH -R && E:\biocbuild\bbs-3.19-bioc\R\bin\R.exe CMD build --keep-empty-dirs --no-resave-data RandomWalkRestartMH StartedAt: 2024-10-16 21:21:07 -0400 (Wed, 16 Oct 2024) EndedAt: 2024-10-16 21:21:10 -0400 (Wed, 16 Oct 2024) EllapsedTime: 3.0 seconds RetCode: 1 Status: ERROR PackageFile: None PackageFileSize: NA