############################################################################## ############################################################################## ### ### Running command: ### ### /home/biocbuild/bbs-3.19-bioc/R/bin/R CMD build --keep-empty-dirs --no-resave-data RandomWalkRestartMH ### ############################################################################## ############################################################################## * checking for file ‘RandomWalkRestartMH/DESCRIPTION’ ... OK * preparing ‘RandomWalkRestartMH’: * checking DESCRIPTION meta-information ... OK * installing the package to build vignettes ----------------------------------- ERROR: dependency ‘dnet’ is not available for package ‘RandomWalkRestartMH’ * removing ‘/tmp/RtmpZOMI7l/Rinst5a2d3888e0b2/RandomWalkRestartMH’ ----------------------------------- ERROR: package installation failed