Package: RandomWalkRestartMH Version: 1.24.0 Command: /Library/Frameworks/R.framework/Resources/bin/R CMD INSTALL RandomWalkRestartMH StartedAt: 2024-10-16 19:04:39 -0400 (Wed, 16 Oct 2024) EndedAt: 2024-10-16 19:04:40 -0400 (Wed, 16 Oct 2024) EllapsedTime: 0.4 seconds RetCode: 1 Status: ERROR