Package: RadioGx Version: 2.8.0 Command: rm -rf RadioGx.buildbin-libdir && mkdir RadioGx.buildbin-libdir && /Users/biocbuild/BBS/utils/build-universal.sh RadioGx_2.8.0.tar.gz /Library/Frameworks/R.framework/Resources/bin/R RadioGx.buildbin-libdir StartedAt: 2024-06-10 00:33:55 -0400 (Mon, 10 Jun 2024) EndedAt: 2024-06-10 00:34:49 -0400 (Mon, 10 Jun 2024) EllapsedTime: 53.8 seconds RetCode: 0 Status: OK PackageFile: RadioGx_2.8.0.tgz PackageFileSize: 4.494 MiB