Package: RadioGx Version: 2.8.0 Command: rm -rf RadioGx.buildbin-libdir && mkdir RadioGx.buildbin-libdir && /Users/biocbuild/BBS/utils/build-universal.sh RadioGx_2.8.0.tar.gz /Library/Frameworks/R.framework/Resources/bin/R RadioGx.buildbin-libdir StartedAt: 2024-10-18 20:07:22 -0400 (Fri, 18 Oct 2024) EndedAt: 2024-10-18 20:08:18 -0400 (Fri, 18 Oct 2024) EllapsedTime: 56.0 seconds RetCode: 0 Status: OK PackageFile: RadioGx_2.8.0.tgz PackageFileSize: 4.494 MiB