Package: RVS Version: 1.26.0 Command: E:\biocbuild\bbs-3.19-bioc\R\bin\R.exe CMD INSTALL RVS StartedAt: 2024-10-16 17:05:26 -0400 (Wed, 16 Oct 2024) EndedAt: 2024-10-16 17:05:50 -0400 (Wed, 16 Oct 2024) EllapsedTime: 24.4 seconds RetCode: 0 Status: OK