Package: RVS Version: 1.26.0 Command: chmod a+r RVS -R && F:\biocbuild\bbs-3.19-bioc\R\bin\R.exe CMD build --keep-empty-dirs --no-resave-data RVS StartedAt: 2024-06-26 21:35:38 -0400 (Wed, 26 Jun 2024) EndedAt: 2024-06-26 21:37:33 -0400 (Wed, 26 Jun 2024) EllapsedTime: 115.2 seconds RetCode: 0 Status: OK PackageFile: RVS_1.26.0.tar.gz PackageFileSize: 371 KiB