Package: RVS Version: 1.26.0 Command: rm -rf RVS.buildbin-libdir && mkdir RVS.buildbin-libdir && /Users/biocbuild/BBS/utils/build-universal.sh RVS_1.26.0.tar.gz /Library/Frameworks/R.framework/Resources/bin/R RVS.buildbin-libdir StartedAt: 2024-10-17 17:04:52 -0400 (Thu, 17 Oct 2024) EndedAt: 2024-10-17 17:05:20 -0400 (Thu, 17 Oct 2024) EllapsedTime: 28.0 seconds RetCode: 0 Status: OK PackageFile: RVS_1.26.0.tgz PackageFileSize: 699.2 KiB