Package: RVS Version: 1.26.0 Command: rm -rf RVS.buildbin-libdir && mkdir RVS.buildbin-libdir && /Users/biocbuild/BBS/utils/build-universal.sh RVS_1.26.0.tar.gz /Library/Frameworks/R.framework/Resources/bin/R RVS.buildbin-libdir StartedAt: 2024-06-10 00:37:15 -0400 (Mon, 10 Jun 2024) EndedAt: 2024-06-10 00:37:32 -0400 (Mon, 10 Jun 2024) EllapsedTime: 17.0 seconds RetCode: 0 Status: OK PackageFile: RVS_1.26.0.tgz PackageFileSize: 688.7 KiB