Package: RVS Version: 1.26.0 Command: rm -rf RVS.buildbin-libdir && mkdir RVS.buildbin-libdir && /Users/biocbuild/BBS/utils/build-universal.sh RVS_1.26.0.tar.gz /Library/Frameworks/R.framework/Resources/bin/R RVS.buildbin-libdir StartedAt: 2024-06-11 13:00:00 -0400 (Tue, 11 Jun 2024) EndedAt: 2024-06-11 13:00:24 -0400 (Tue, 11 Jun 2024) EllapsedTime: 23.5 seconds RetCode: 0 Status: OK PackageFile: RVS_1.26.0.tgz PackageFileSize: 688.4 KiB