Package: RVS Version: 1.26.0 Command: /Library/Frameworks/R.framework/Resources/bin/R CMD check --install=check:RVS.install-out.txt --library=/Library/Frameworks/R.framework/Resources/library --no-vignettes --timings RVS_1.26.0.tar.gz StartedAt: 2024-10-18 10:39:15 -0400 (Fri, 18 Oct 2024) EndedAt: 2024-10-18 10:42:51 -0400 (Fri, 18 Oct 2024) EllapsedTime: 216.3 seconds RetCode: 0 Status: WARNINGS CheckDir: RVS.Rcheck Warnings: 1